BEGIN:VCALENDAR
VERSION:2.0
PRODID:-//SMKK St. Louis Surabaya - ECPv5.4.0//NONSGML v1.0//EN
CALSCALE:GREGORIAN
METHOD:PUBLISH
X-WR-CALNAME:SMKK St. Louis Surabaya
X-ORIGINAL-URL:https://smkstlouis.sch.id
X-WR-CALDESC:Events for SMKK St. Louis Surabaya
BEGIN:VTIMEZONE
TZID:Asia/Krasnoyarsk
BEGIN:STANDARD
TZOFFSETFROM:+0700
TZOFFSETTO:+0700
TZNAME:+07
DTSTART:20260101T000000
END:STANDARD
END:VTIMEZONE
BEGIN:VEVENT
DTSTART;TZID=Asia/Krasnoyarsk:20260426T060000
DTEND;TZID=Asia/Krasnoyarsk:20260426T130000
DTSTAMP:20260420T151121
CREATED:20260311T094620Z
LAST-MODIFIED:20260413T093551Z
UID:4281-1777183200-1777208400@smkstlouis.sch.id
SUMMARY:FUNWALK
DESCRIPTION:Yuk ikut FUN WALK dalam rangka 50 tahun SMK Katolik St. Louis Surabaya!\nRayakan kebersamaan\, sehat bareng\, dan seru-seruan dalam satu momen istimewa 🎉 \n🎁 Total hadiah hingga 50 JUTA\n👕 Dapatkan jersey eksklusif\n🎶 Hiburan & pentas siswa\n🎟️ Voucher tenant menarik \n📅 Minggu\, 26 April 2026\n⏰ 06.00 WIB\n📍 SMK Katolik St. Louis\nJalan Tidar 117 Surabaya \nAjak teman\, keluarga\, dan sahabatmu!\nKarena momen terbaik… selalu dimulai dari langkah pertama 🚶‍♂️✨
URL:https://smkstlouis.sch.id/event/funwalk/
LOCATION:SMK St Louis Surabaya\, Jl Tidar No 117\, Surabaya\, Jawa Timur\, Indonesia
ATTACH;FMTTYPE=image/jpeg:https://smkstlouis.sch.id/wp-content/uploads/2026/03/WhatsApp-Image-2026-04-13-at-16.32.40.jpeg
ORGANIZER;CN="SMK%20St%20Louis":MAILTO:smkstlouissby@gmail.com
END:VEVENT
END:VCALENDAR