BEGIN:VCALENDAR
VERSION:2.0
PRODID:-//SMKK St. Louis Surabaya - ECPv5.4.0//NONSGML v1.0//EN
CALSCALE:GREGORIAN
METHOD:PUBLISH
X-WR-CALNAME:SMKK St. Louis Surabaya
X-ORIGINAL-URL:https://smkstlouis.sch.id
X-WR-CALDESC:Events for SMKK St. Louis Surabaya
BEGIN:VTIMEZONE
TZID:Asia/Krasnoyarsk
BEGIN:STANDARD
TZOFFSETFROM:+0700
TZOFFSETTO:+0700
TZNAME:+07
DTSTART:20250101T000000
END:STANDARD
END:VTIMEZONE
BEGIN:VEVENT
DTSTART;VALUE=DATE:20250601
DTEND;VALUE=DATE:20250613
DTSTAMP:20260424T221117
CREATED:20240829T024223Z
LAST-MODIFIED:20240829T024548Z
UID:4109-1748736000-1749772799@smkstlouis.sch.id
SUMMARY:Pekan P5 kelas X
DESCRIPTION:
URL:https://smkstlouis.sch.id/event/pekan-p5-kelas-x/
LOCATION:Jawa Timur
CATEGORIES:2024-2025
ATTACH;FMTTYPE=image/png:https://smkstlouis.sch.id/wp-content/uploads/2024/08/SMK-St.-Louis.png
END:VEVENT
END:VCALENDAR