BEGIN:VCALENDAR
VERSION:2.0
PRODID:-//SMKK St. Louis Surabaya - ECPv5.4.0//NONSGML v1.0//EN
CALSCALE:GREGORIAN
METHOD:PUBLISH
X-WR-CALNAME:SMKK St. Louis Surabaya
X-ORIGINAL-URL:https://smkstlouis.sch.id
X-WR-CALDESC:Events for SMKK St. Louis Surabaya
BEGIN:VTIMEZONE
TZID:Asia/Krasnoyarsk
BEGIN:STANDARD
TZOFFSETFROM:+0700
TZOFFSETTO:+0700
TZNAME:+07
DTSTART:20250101T000000
END:STANDARD
END:VTIMEZONE
BEGIN:VEVENT
DTSTART;VALUE=DATE:20250501
DTEND;VALUE=DATE:20250502
DTSTAMP:20260424T232633
CREATED:20240829T023629Z
LAST-MODIFIED:20240829T023629Z
UID:4105-1746057600-1746143999@smkstlouis.sch.id
SUMMARY:Hari Pendidikan Nasional
DESCRIPTION:
URL:https://smkstlouis.sch.id/event/hari-pendidikan-nasional-2/
LOCATION:Jawa Timur
CATEGORIES:2024-2025
ATTACH;FMTTYPE=image/png:https://smkstlouis.sch.id/wp-content/uploads/2024/08/SMK-St.-Louis-17.png
END:VEVENT
BEGIN:VEVENT
DTSTART;VALUE=DATE:20250519
DTEND;VALUE=DATE:20250526
DTSTAMP:20260424T232633
CREATED:20240827T061758Z
LAST-MODIFIED:20240827T061758Z
UID:4100-1747612800-1748217599@smkstlouis.sch.id
SUMMARY:Sumantif Akhir Semester
DESCRIPTION:
URL:https://smkstlouis.sch.id/event/sumantif-akhir-semester-2/
LOCATION:Jawa Timur
CATEGORIES:2024-2025
ATTACH;FMTTYPE=image/png:https://smkstlouis.sch.id/wp-content/uploads/2024/08/SMK-St.-Louis.png
END:VEVENT
BEGIN:VEVENT
DTSTART;VALUE=DATE:20250519
DTEND;VALUE=DATE:20250526
DTSTAMP:20260424T232633
CREATED:20240827T061908Z
LAST-MODIFIED:20240827T061908Z
UID:4102-1747612800-1748217599@smkstlouis.sch.id
SUMMARY:Sumantif Akhir Semester
DESCRIPTION:
URL:https://smkstlouis.sch.id/event/sumantif-akhir-semester-3/
LOCATION:Jawa Timur
CATEGORIES:2024-2025
ATTACH;FMTTYPE=image/png:https://smkstlouis.sch.id/wp-content/uploads/2024/08/SMK-St.-Louis.png
END:VEVENT
BEGIN:VEVENT
DTSTART;VALUE=DATE:20250519
DTEND;VALUE=DATE:20250529
DTSTAMP:20260424T232633
CREATED:20240829T023949Z
LAST-MODIFIED:20240829T023949Z
UID:4107-1747612800-1748476799@smkstlouis.sch.id
SUMMARY:Sumantif Akhir Semester
DESCRIPTION:
URL:https://smkstlouis.sch.id/event/sumantif-akhir-semester-4/
LOCATION:Jawa Timur
CATEGORIES:2024-2025
ATTACH;FMTTYPE=image/png:https://smkstlouis.sch.id/wp-content/uploads/2024/08/SMK-St.-Louis.png
END:VEVENT
END:VCALENDAR