BEGIN:VCALENDAR
VERSION:2.0
PRODID:-//SMKK St. Louis Surabaya - ECPv5.4.0//NONSGML v1.0//EN
CALSCALE:GREGORIAN
METHOD:PUBLISH
X-WR-CALNAME:SMKK St. Louis Surabaya
X-ORIGINAL-URL:https://smkstlouis.sch.id
X-WR-CALDESC:Events for SMKK St. Louis Surabaya
BEGIN:VTIMEZONE
TZID:Asia/Krasnoyarsk
BEGIN:STANDARD
TZOFFSETFROM:+0700
TZOFFSETTO:+0700
TZNAME:+07
DTSTART:20250101T000000
END:STANDARD
END:VTIMEZONE
BEGIN:VEVENT
DTSTART;VALUE=DATE:20250414
DTEND;VALUE=DATE:20250427
DTSTAMP:20260425T004309
CREATED:20240827T061230Z
LAST-MODIFIED:20240827T061230Z
UID:4082-1744588800-1745711999@smkstlouis.sch.id
SUMMARY:PSAJ Kelas XII
DESCRIPTION:
URL:https://smkstlouis.sch.id/event/psaj-kelas-xii-3/
LOCATION:Jawa Timur
CATEGORIES:2024-2025
ATTACH;FMTTYPE=image/png:https://smkstlouis.sch.id/wp-content/uploads/2024/08/SMK-St.-Louis.png
END:VEVENT
BEGIN:VEVENT
DTSTART;VALUE=DATE:20250417
DTEND;VALUE=DATE:20250420
DTSTAMP:20260425T004309
CREATED:20240827T043617Z
LAST-MODIFIED:20240827T043617Z
UID:4075-1744848000-1745107199@smkstlouis.sch.id
SUMMARY:Tri Hari Suci
DESCRIPTION:
URL:https://smkstlouis.sch.id/event/tri-hari-suci/
LOCATION:Jawa Timur
CATEGORIES:2024-2025
ATTACH;FMTTYPE=image/png:https://smkstlouis.sch.id/wp-content/uploads/2024/08/SMK-St.-Louis-4.png
END:VEVENT
BEGIN:VEVENT
DTSTART;VALUE=DATE:20250425
DTEND;VALUE=DATE:20250426
DTSTAMP:20260425T004309
CREATED:20240827T051453Z
LAST-MODIFIED:20240827T051453Z
UID:4063-1745539200-1745625599@smkstlouis.sch.id
SUMMARY:Perayaan Hari Paskah Siswa
DESCRIPTION:
URL:https://smkstlouis.sch.id/event/perayaan-hari-paskah-siswa/
LOCATION:Jawa Timur
CATEGORIES:2024-2025
ATTACH;FMTTYPE=image/png:https://smkstlouis.sch.id/wp-content/uploads/2024/08/SMK-St.-Louis-16.png
END:VEVENT
BEGIN:VEVENT
DTSTART;VALUE=DATE:20250501
DTEND;VALUE=DATE:20250502
DTSTAMP:20260425T004309
CREATED:20240829T023629Z
LAST-MODIFIED:20240829T023629Z
UID:4105-1746057600-1746143999@smkstlouis.sch.id
SUMMARY:Hari Pendidikan Nasional
DESCRIPTION:
URL:https://smkstlouis.sch.id/event/hari-pendidikan-nasional-2/
LOCATION:Jawa Timur
CATEGORIES:2024-2025
ATTACH;FMTTYPE=image/png:https://smkstlouis.sch.id/wp-content/uploads/2024/08/SMK-St.-Louis-17.png
END:VEVENT
END:VCALENDAR