BEGIN:VCALENDAR
VERSION:2.0
PRODID:-//SMKK St. Louis Surabaya - ECPv5.4.0//NONSGML v1.0//EN
CALSCALE:GREGORIAN
METHOD:PUBLISH
X-WR-CALNAME:SMKK St. Louis Surabaya
X-ORIGINAL-URL:https://smkstlouis.sch.id
X-WR-CALDESC:Events for SMKK St. Louis Surabaya
BEGIN:VTIMEZONE
TZID:Asia/Krasnoyarsk
BEGIN:STANDARD
TZOFFSETFROM:+0700
TZOFFSETTO:+0700
TZNAME:+07
DTSTART:20250101T000000
END:STANDARD
END:VTIMEZONE
BEGIN:VEVENT
DTSTART;VALUE=DATE:20250305
DTEND;VALUE=DATE:20250306
DTSTAMP:20260425T021009
CREATED:20240827T043329Z
LAST-MODIFIED:20240827T043329Z
UID:4073-1741132800-1741219199@smkstlouis.sch.id
SUMMARY:Rabu Abu
DESCRIPTION:
URL:https://smkstlouis.sch.id/event/rabu-abu/
LOCATION:Jawa Timur
CATEGORIES:2024-2025
ATTACH;FMTTYPE=image/png:https://smkstlouis.sch.id/wp-content/uploads/2024/08/SMK-St.-Louis-5.png
END:VEVENT
BEGIN:VEVENT
DTSTART;VALUE=DATE:20250328
DTEND;VALUE=DATE:20250406
DTSTAMP:20260425T021009
CREATED:20240827T043122Z
LAST-MODIFIED:20240827T043122Z
UID:4071-1743120000-1743897599@smkstlouis.sch.id
SUMMARY:Libur Idul Fitri
DESCRIPTION:
URL:https://smkstlouis.sch.id/event/libur-idul-fitri/
LOCATION:Jawa Timur
CATEGORIES:2024-2025
ATTACH;FMTTYPE=image/png:https://smkstlouis.sch.id/wp-content/uploads/2024/08/SMK-St.-Louis-6.png
END:VEVENT
END:VCALENDAR