BEGIN:VCALENDAR
VERSION:2.0
PRODID:-//SMKK St. Louis Surabaya - ECPv5.4.0//NONSGML v1.0//EN
CALSCALE:GREGORIAN
METHOD:PUBLISH
X-WR-CALNAME:SMKK St. Louis Surabaya
X-ORIGINAL-URL:https://smkstlouis.sch.id
X-WR-CALDESC:Events for SMKK St. Louis Surabaya
BEGIN:VTIMEZONE
TZID:Asia/Krasnoyarsk
BEGIN:STANDARD
TZOFFSETFROM:+0700
TZOFFSETTO:+0700
TZNAME:+07
DTSTART:20240101T000000
END:STANDARD
END:VTIMEZONE
BEGIN:VEVENT
DTSTART;VALUE=DATE:20241001
DTEND;VALUE=DATE:20241102
DTSTAMP:20260422T185752
CREATED:20241014T064221Z
LAST-MODIFIED:20241014T064249Z
UID:4140-1727740800-1730505599@smkstlouis.sch.id
SUMMARY:Gelombang 1 - Pengambilan Formulir
DESCRIPTION:
URL:https://smkstlouis.sch.id/event/gelombang-1-pengambilan-formulir/
LOCATION:SMK St Louis Surabaya\, Jl Tidar No 117\, Surabaya\, Jawa Timur\, Indonesia
CATEGORIES:PCPDB
END:VEVENT
BEGIN:VEVENT
DTSTART;VALUE=DATE:20241002
DTEND;VALUE=DATE:20241103
DTSTAMP:20260422T185752
CREATED:20241014T063817Z
LAST-MODIFIED:20241014T064117Z
UID:4136-1727827200-1730591999@smkstlouis.sch.id
SUMMARY:Gelombang 1 - Pengembalian Formulir
DESCRIPTION:
URL:https://smkstlouis.sch.id/event/gelombang-1/
LOCATION:SMK St Louis Surabaya\, Jl Tidar No 117\, Surabaya\, Jawa Timur\, Indonesia
CATEGORIES:PCPDB
END:VEVENT
BEGIN:VEVENT
DTSTART;VALUE=DATE:20241009
DTEND;VALUE=DATE:20241012
DTSTAMP:20260422T185752
CREATED:20240825T060018Z
LAST-MODIFIED:20240825T064543Z
UID:4012-1728432000-1728691199@smkstlouis.sch.id
SUMMARY:Retret XII TAV dan TBSM
DESCRIPTION:
URL:https://smkstlouis.sch.id/event/retret-xii-tav-dan-tbsm/
LOCATION:Griya Samadhi Vincentius\, Jl. Raya Ngemplak Jalan Raya No.2\, Plembon\, Prigen\, Kec. Prigen\, Pasuruan\, Jawa Timur 67157\, Pasuruan\, Jawa Timur\, 67157\, Indonesia
CATEGORIES:2024-2025
ATTACH;FMTTYPE=image/png:https://smkstlouis.sch.id/wp-content/uploads/2024/08/SMK-St.-Louis.png
END:VEVENT
BEGIN:VEVENT
DTSTART;VALUE=DATE:20241012
DTEND;VALUE=DATE:20241014
DTSTAMP:20260422T185752
CREATED:20240825T060809Z
LAST-MODIFIED:20240825T070950Z
UID:4016-1728691200-1728863999@smkstlouis.sch.id
SUMMARY:LKTM OSIS
DESCRIPTION:
URL:https://smkstlouis.sch.id/event/lktm-osis/
LOCATION:Jawa Timur
CATEGORIES:2024-2025
ATTACH;FMTTYPE=image/png:https://smkstlouis.sch.id/wp-content/uploads/2024/08/SMK-St.-Louis-3.png
END:VEVENT
BEGIN:VEVENT
DTSTART;VALUE=DATE:20241014
DTEND;VALUE=DATE:20241020
DTSTAMP:20260422T185752
CREATED:20240825T060905Z
LAST-MODIFIED:20240825T064731Z
UID:4018-1728864000-1729382399@smkstlouis.sch.id
SUMMARY:Pengenalan Industri Kelas X
DESCRIPTION:
URL:https://smkstlouis.sch.id/event/pengenalan-industri-kelas-x/
LOCATION:Jawa Timur
CATEGORIES:2024-2025
ATTACH;FMTTYPE=image/png:https://smkstlouis.sch.id/wp-content/uploads/2024/08/SMK-St.-Louis.png
END:VEVENT
BEGIN:VEVENT
DTSTART;VALUE=DATE:20241014
DTEND;VALUE=DATE:20241019
DTSTAMP:20260422T185752
CREATED:20240825T061002Z
LAST-MODIFIED:20240825T064532Z
UID:4020-1728864000-1729295999@smkstlouis.sch.id
SUMMARY:Retret XII TKJ 1\, TPM\, TKR
DESCRIPTION:
URL:https://smkstlouis.sch.id/event/retret-xii-tkj-1-tpm-tkr/
LOCATION:Griya Samadhi Vincentius\, Jl. Raya Ngemplak Jalan Raya No.2\, Plembon\, Prigen\, Kec. Prigen\, Pasuruan\, Jawa Timur 67157\, Pasuruan\, Jawa Timur\, 67157\, Indonesia
CATEGORIES:2024-2025
ATTACH;FMTTYPE=image/png:https://smkstlouis.sch.id/wp-content/uploads/2024/08/SMK-St.-Louis.png
END:VEVENT
BEGIN:VEVENT
DTSTART;VALUE=DATE:20241021
DTEND;VALUE=DATE:20241026
DTSTAMP:20260422T185752
CREATED:20240825T061223Z
LAST-MODIFIED:20240825T064520Z
UID:4022-1729468800-1729900799@smkstlouis.sch.id
SUMMARY:Retret XII DKV\, X TAV\, TPM\, X TKJ
DESCRIPTION:
URL:https://smkstlouis.sch.id/event/retret-xii-dkv-x-tav-tpm-x-tkj/
LOCATION:Griya Samadhi Vincentius\, Jl. Raya Ngemplak Jalan Raya No.2\, Plembon\, Prigen\, Kec. Prigen\, Pasuruan\, Jawa Timur 67157\, Pasuruan\, Jawa Timur\, 67157\, Indonesia
CATEGORIES:2024-2025
ATTACH;FMTTYPE=image/png:https://smkstlouis.sch.id/wp-content/uploads/2024/08/SMK-St.-Louis.png
END:VEVENT
BEGIN:VEVENT
DTSTART;VALUE=DATE:20241028
DTEND;VALUE=DATE:20241102
DTSTAMP:20260422T185752
CREATED:20240825T061400Z
LAST-MODIFIED:20240825T064506Z
UID:4024-1730073600-1730505599@smkstlouis.sch.id
SUMMARY:Retret X TKR\, TSM\, DKV 1
DESCRIPTION:
URL:https://smkstlouis.sch.id/event/retret-x-tkr-tsm-dkv-1/
LOCATION:Griya Samadhi Vincentius\, Jl. Raya Ngemplak Jalan Raya No.2\, Plembon\, Prigen\, Kec. Prigen\, Pasuruan\, Jawa Timur 67157\, Pasuruan\, Jawa Timur\, 67157\, Indonesia
CATEGORIES:2024-2025
ATTACH;FMTTYPE=image/png:https://smkstlouis.sch.id/wp-content/uploads/2024/08/SMK-St.-Louis.png
END:VEVENT
END:VCALENDAR