BEGIN:VCALENDAR
VERSION:2.0
PRODID:-//SMKK St. Louis Surabaya - ECPv5.4.0//NONSGML v1.0//EN
CALSCALE:GREGORIAN
METHOD:PUBLISH
X-WR-CALNAME:SMKK St. Louis Surabaya
X-ORIGINAL-URL:https://smkstlouis.sch.id
X-WR-CALDESC:Events for SMKK St. Louis Surabaya
BEGIN:VTIMEZONE
TZID:Asia/Krasnoyarsk
BEGIN:STANDARD
TZOFFSETFROM:+0700
TZOFFSETTO:+0700
TZNAME:+07
DTSTART:20240101T000000
END:STANDARD
END:VTIMEZONE
BEGIN:VEVENT
DTSTART;VALUE=DATE:20240713
DTEND;VALUE=DATE:20240714
DTSTAMP:20260422T234209
CREATED:20231008T062341Z
LAST-MODIFIED:20231008T062341Z
UID:3979-1720828800-1720915199@smkstlouis.sch.id
SUMMARY:PCPDB Gelombang Umum
DESCRIPTION:
URL:https://smkstlouis.sch.id/event/pcpdb-gelombang-umum/
LOCATION:Jawa Timur
CATEGORIES:Admission
ATTACH;FMTTYPE=image/png:https://smkstlouis.sch.id/wp-content/uploads/2023/10/Untitled-1-Copy-1.png
END:VEVENT
END:VCALENDAR